Workbook

Sheet CB4_WFI_OD
A1: CBERS-4 - WFI Spectral Response
A3: Wavelength | B3: B13 | C3: B14 | D3: B15 | E3: B16
A4: 420 | B4: 0 | C4: 0 | D4: 0 | E4: 0
A5: 425 | B5: 0 | C5: 0 | D5: 0 | E5: 0
A6: 430 | B6: 0 | C6: 0 | D6: 0 | E6: 0
A7: 435 | B7: 0 | C7: 0 | D7: 0 | E7: 0
A8: 440 | B8: 0.0044447702 | C8: 0 | D8: 0 | E8: 0
A9: 445 | B9: 0.062992181 | C9: 0 | D9: 0 | E9: 0
A10: 450 | B10: 0.39179578 | C10: 0 | D10: 0 | E10: 0
A11: 455 | B11: 0.47737171 | C11: 0 | D11: 0 | E11: 0
A12: 460 | B12: 0.56323025 | C12: 0 | D12: 0 | E12: 0
A13: 465 | B13: 0.70022363 | C13: 0 | D13: 0 | E13: 0
A14: 470 | B14: 0.75522209 | C14: 0 | D14: 0 | E14: 0
A15: 475 | B15: 0.7743046 | C15: 0 | D15: 0 | E15: 0
... A104: 920 | B104: 0 | C104: 0 | D104: 0 | E104: 0

Sheet CB4_WFI_OE
A1: CBERS-4 - WFI Spectral Response
A3: Wavelength | B3: B13 | C3: B14 | D3: B15 | E3: B16
A4: 420 | B4: 0 | C4: 0 | D4: 0 | E4: 0
A5: 425 | B5: 0 | C5: 0 | D5: 0 | E5: 0
A6: 430 | B6: 0 | C6: 0 | D6: 0 | E6: 0
A7: 435 | B7: 0 | C7: 0 | D7: 0 | E7: 0
A8: 440 | B8: 0.0035215117 | C8: 0 | D8: 0 | E8: 0
A9: 445 | B9: 0.063005042 | C9: 0 | D9: 0 | E9: 0
A10: 450 | B10: 0.41682169 | C10: 0 | D10: 0 | E10: 0
A11: 455 | B11: 0.57948431 | C11: 0 | D11: 0 | E11: 0
A12: 460 | B12: 0.62778747 | C12: 0 | D12: 0 | E12: 0
A13: 465 | B13: 0.71869947 | C13: 0 | D13: 0 | E13: 0
A14: 470 | B14: 0.76154203 | C14: 0 | D14: 0 | E14: 0
A15: 475 | B15: 0.7766579 | C15: 0 | D15: 0 | E15: 0
... A104: 920 | B104: 0 | C104: 0 | D104: 0 | E104: 0

Sheet test
A3: Wavelength | B3: B13 | C3: B14 | D3: B15 | E3: B16
A4: 420 | B4: =(CB4_WFI_OD!B4+CB4_WFI_OE!B4)/2 -> 0 | C4: =(CB4_WFI_OD!C4+CB4_WFI_OE!C4)/2 -> 0 | D4: =(CB4_WFI_OD!D4+CB4_WFI_OE!D4)/2 -> 0 | E4: =(CB4_WFI_OD!E4+CB4_WFI_OE!E4)/2 -> 0
A5: 425 | B5: =(CB4_WFI_OD!B5+CB4_WFI_OE!B5)/2 -> 0 | C5: =(CB4_WFI_OD!C5+CB4_WFI_OE!C5)/2 -> 0 | D5: =(CB4_WFI_OD!D5+CB4_WFI_OE!D5)/2 -> 0 | E5: =(CB4_WFI_OD!E5+CB4_WFI_OE!E5)/2 -> 0
A6: 430 | B6: =(CB4_WFI_OD!B6+CB4_WFI_OE!B6)/2 -> 0 | C6: =(CB4_WFI_OD!C6+CB4_WFI_OE!C6)/2 -> 0 | D6: =(CB4_WFI_OD!D6+CB4_WFI_OE!D6)/2 -> 0 | E6: =(CB4_WFI_OD!E6+CB4_WFI_OE!E6)/2 -> 0
A7: 435 | B7: =(CB4_WFI_OD!B7+CB4_WFI_OE!B7)/2 -> 0 | C7: =(CB4_WFI_OD!C7+CB4_WFI_OE!C7)/2 -> 0 | D7: =(CB4_WFI_OD!D7+CB4_WFI_OE!D7)/2 -> 0 | E7: =(CB4_WFI_OD!E7+CB4_WFI_OE!E7)/2 -> 0
A8: 440 | B8: =(CB4_WFI_OD!B8+CB4_WFI_OE!B8)/2 -> 0.003983141 | C8: =(CB4_WFI_OD!C8+CB4_WFI_OE!C8)/2 -> 0 | D8: =(CB4_WFI_OD!D8+CB4_WFI_OE!D8)/2 -> 0 | E8: =(CB4_WFI_OD!E8+CB4_WFI_OE!E8)/2 -> 0
A9: 445 | B9: =(CB4_WFI_OD!B9+CB4_WFI_OE!B9)/2 -> 0.062998612 | C9: =(CB4_WFI_OD!C9+CB4_WFI_OE!C9)/2 -> 0 | D9: =(CB4_WFI_OD!D9+CB4_WFI_OE!D9)/2 -> 0 | E9: =(CB4_WFI_OD!E9+CB4_WFI_OE!E9)/2 -> 0
A10: 450 | B10: =(CB4_WFI_OD!B10+CB4_WFI_OE!B10)/2 -> 0.40430873 | C10: =(CB4_WFI_OD!C10+CB4_WFI_OE!C10)/2 -> 0 | D10: =(CB4_WFI_OD!D10+CB4_WFI_OE!D10)/2 -> 0 | E10: =(CB4_WFI_OD!E10+CB4_WFI_OE!E10)/2 -> 0
A11: 455 | B11: =(CB4_WFI_OD!B11+CB4_WFI_OE!B11)/2 -> 0.52842801 | C11: =(CB4_WFI_OD!C11+CB4_WFI_OE!C11)/2 -> 0 | D11: =(CB4_WFI_OD!D11+CB4_WFI_OE!D11)/2 -> 0 | E11: =(CB4_WFI_OD!E11+CB4_WFI_OE!E11)/2 -> 0
A12: 460 | B12: =(CB4_WFI_OD!B12+CB4_WFI_OE!B12)/2 -> 0.59550886 | C12: =(CB4_WFI_OD!C12+CB4_WFI_OE!C12)/2 -> 0 | D12: =(CB4_WFI_OD!D12+CB4_WFI_OE!D12)/2 -> 0 | E12: =(CB4_WFI_OD!E12+CB4_WFI_OE!E12)/2 -> 0
A13: 465 | B13: =(CB4_WFI_OD!B13+CB4_WFI_OE!B13)/2 -> 0.70946155 | C13: =(CB4_WFI_OD!C13+CB4_WFI_OE!C13)/2 -> 0 | D13: =(CB4_WFI_OD!D13+CB4_WFI_OE!D13)/2 -> 0 | E13: =(CB4_WFI_OD!E13+CB4_WFI_OE!E13)/2 -> 0
A14: 470 | B14: =(CB4_WFI_OD!B14+CB4_WFI_OE!B14)/2 -> 0.75838206 | C14: =(CB4_WFI_OD!C14+CB4_WFI_OE!C14)/2 -> 0 | D14: =(CB4_WFI_OD!D14+CB4_WFI_OE!D14)/2 -> 0 | E14: =(CB4_WFI_OD!E14+CB4_WFI_OE!E14)/2 -> 0
A15: 475 | B15: =(CB4_WFI_OD!B15+CB4_WFI_OE!B15)/2 -> 0.77548125 | C15: =(CB4_WFI_OD!C15+CB4_WFI_OE!C15)/2 -> 0 | D15: =(CB4_WFI_OD!D15+CB4_WFI_OE!D15)/2 -> 0 | E15: =(CB4_WFI_OD!E15+CB4_WFI_OE!E15)/2 -> 0
... A104: 920 | B104: =(CB4_WFI_OD!B104+CB4_WFI_OE!B104)/2 -> 0 | C104: =(CB4_WFI_OD!C104+CB4_WFI_OE!C104)/2 -> 0 | D104: =(CB4_WFI_OD!D104+CB4_WFI_OE!D104)/2 -> 0 | E104: =(CB4_WFI_OD!E104+CB4_WFI_OE!E104)/2 -> 0
